BEGIN:VCALENDAR
VERSION:2.0
PRODID:-//Heirs Covenant Church - ECPv6.15.1.1//NONSGML v1.0//EN
CALSCALE:GREGORIAN
METHOD:PUBLISH
X-WR-CALNAME:Heirs Covenant Church
X-ORIGINAL-URL:https://heirscovenant.com
X-WR-CALDESC:Events for Heirs Covenant Church
REFRESH-INTERVAL;VALUE=DURATION:PT1H
X-Robots-Tag:noindex
X-PUBLISHED-TTL:PT1H
BEGIN:VTIMEZONE
TZID:America/Detroit
BEGIN:DAYLIGHT
TZOFFSETFROM:-0500
TZOFFSETTO:-0400
TZNAME:EDT
DTSTART:20180311T070000
END:DAYLIGHT
BEGIN:STANDARD
TZOFFSETFROM:-0400
TZOFFSETTO:-0500
TZNAME:EST
DTSTART:20181104T060000
END:STANDARD
END:VTIMEZONE
BEGIN:VEVENT
DTSTART;VALUE=DATE:20180604
DTEND;VALUE=DATE:20180609
DTSTAMP:20260424T035547
CREATED:20180503T204921Z
LAST-MODIFIED:20180503T204921Z
UID:9139-1528070400-1528502399@heirscovenant.com
SUMMARY:Game On - Vacation Bible School (HEIRS / New Life Vineyard Joint Effort)
DESCRIPTION:
URL:https://heirscovenant.com/events/game-on-vacation-bible-school-heirs-new-life-vineyard-joint-effort/
LOCATION:Heirs Covenant Church\, 2470 Princeton Road\, Hamilton\, OH\, 45011\, United States
CATEGORIES:Children,Community
END:VEVENT
END:VCALENDAR