BEGIN:VCALENDAR
VERSION:2.0
PRODID:-//Heirs Covenant Church - ECPv6.15.1.1//NONSGML v1.0//EN
CALSCALE:GREGORIAN
METHOD:PUBLISH
X-WR-CALNAME:Heirs Covenant Church
X-ORIGINAL-URL:https://heirscovenant.com
X-WR-CALDESC:Events for Heirs Covenant Church
REFRESH-INTERVAL;VALUE=DURATION:PT1H
X-Robots-Tag:noindex
X-PUBLISHED-TTL:PT1H
BEGIN:VTIMEZONE
TZID:America/Detroit
BEGIN:DAYLIGHT
TZOFFSETFROM:-0500
TZOFFSETTO:-0400
TZNAME:EDT
DTSTART:20190310T070000
END:DAYLIGHT
BEGIN:STANDARD
TZOFFSETFROM:-0400
TZOFFSETTO:-0500
TZNAME:EST
DTSTART:20191103T060000
END:STANDARD
END:VTIMEZONE
BEGIN:VEVENT
DTSTART;TZID=America/Detroit:20190529T193000
DTEND;TZID=America/Detroit:20190529T210000
DTSTAMP:20260424T021803
CREATED:20190512T050417Z
LAST-MODIFIED:20190512T050417Z
UID:9420-1559158200-1559163600@heirscovenant.com
SUMMARY:God Encounters
DESCRIPTION:An evening of Prophetic Worship\, Intercession\, and Ministry
URL:https://heirscovenant.com/events/god-encounters/
CATEGORIES:Encounter Night
END:VEVENT
END:VCALENDAR