BEGIN:VCALENDAR
VERSION:2.0
PRODID:-//Heirs Covenant Church - ECPv6.15.1.1//NONSGML v1.0//EN
CALSCALE:GREGORIAN
METHOD:PUBLISH
X-ORIGINAL-URL:https://heirscovenant.com
X-WR-CALDESC:Events for Heirs Covenant Church
REFRESH-INTERVAL;VALUE=DURATION:PT1H
X-Robots-Tag:noindex
X-PUBLISHED-TTL:PT1H
BEGIN:VTIMEZONE
TZID:UTC
BEGIN:STANDARD
TZOFFSETFROM:+0000
TZOFFSETTO:+0000
TZNAME:UTC
DTSTART:20170101T000000
END:STANDARD
END:VTIMEZONE
BEGIN:VEVENT
DTSTART;TZID=UTC:20171126T130000
DTEND;TZID=UTC:20171126T140000
DTSTAMP:20260424T053644
CREATED:20171105T191014Z
LAST-MODIFIED:20171105T191014Z
UID:8731-1511701200-1511704800@heirscovenant.com
SUMMARY:Monthly E.P.I.C. Meeting
DESCRIPTION:Join E.P.I.C. (Experienced People In Christ) as we meet to build relationships\, have fun\,  and discuss opportunities to advance the Kingdom of God.
URL:https://heirscovenant.com/events/monthly-e-p-i-c-meeting/
LOCATION:Heirs Covenant Church\, 2470 Princeton Road\, Hamilton\, OH\, 45011\, United States
CATEGORIES:Seniors
END:VEVENT
BEGIN:VEVENT
DTSTART;TZID=UTC:20170528T123000
DTEND;TZID=UTC:20170528T133000
DTSTAMP:20260424T053644
CREATED:20170524T033932Z
LAST-MODIFIED:20170524T033932Z
UID:8359-1495974600-1495978200@heirscovenant.com
SUMMARY:E.P.I.C. (Experience People In Christ)
DESCRIPTION:E.P.I.C. will meet Sunday\, May 28th in the Atrium following the morning gathering.  All of our season individuals\, age 50 plus are invited.
URL:https://heirscovenant.com/events/e-p-i-c-experience-people-in-christ/
LOCATION:OH
CATEGORIES:Seniors
END:VEVENT
END:VCALENDAR