BEGIN:VCALENDAR
VERSION:2.0
PRODID:-//Heirs Covenant Church - ECPv6.15.1.1//NONSGML v1.0//EN
CALSCALE:GREGORIAN
METHOD:PUBLISH
X-WR-CALNAME:Heirs Covenant Church
X-ORIGINAL-URL:https://heirscovenant.com
X-WR-CALDESC:Events for Heirs Covenant Church
REFRESH-INTERVAL;VALUE=DURATION:PT1H
X-Robots-Tag:noindex
X-PUBLISHED-TTL:PT1H
BEGIN:VTIMEZONE
TZID:UTC
BEGIN:STANDARD
TZOFFSETFROM:+0000
TZOFFSETTO:+0000
TZNAME:UTC
DTSTART:20170101T000000
END:STANDARD
END:VTIMEZONE
BEGIN:VEVENT
DTSTART;VALUE=DATE:20170925
DTEND;VALUE=DATE:20170928
DTSTAMP:20260424T023334
CREATED:20170916T231300Z
LAST-MODIFIED:20170916T231300Z
UID:8621-1506297600-1506556799@heirscovenant.com
SUMMARY:Three Day Fast
DESCRIPTION:
URL:https://heirscovenant.com/events/three-day-fast/
END:VEVENT
BEGIN:VEVENT
DTSTART;TZID=UTC:20170924T113000
DTEND;TZID=UTC:20170924T130000
DTSTAMP:20260424T023334
CREATED:20170916T231546Z
LAST-MODIFIED:20170916T231546Z
UID:8623-1506252600-1506258000@heirscovenant.com
SUMMARY:Special Guest: Pastor Jose Andrews
DESCRIPTION:Pastor Jose Andrews will share what the LORD is doing in India as well as opportunities to serve the people of that country.
URL:https://heirscovenant.com/events/special-guest-pastor-jose-andrews/
CATEGORIES:Sunday Gatherings
END:VEVENT
BEGIN:VEVENT
DTSTART;TZID=UTC:20170826T090000
DTEND;TZID=UTC:20170826T140000
DTSTAMP:20260424T023334
CREATED:20170708T050045Z
LAST-MODIFIED:20170708T050045Z
UID:8441-1503738000-1503756000@heirscovenant.com
SUMMARY:Dangerous Talk
DESCRIPTION:Beauty on Your Terms presents Dangerous Talk! \nDo you want to have better control over your thought life? Are you dealing with chronic illness\, anxiety and negative cycles that won’t go away? This event is for you. Contact Valerie Maxsam at 513-445-8887 to register. \nRegistration is $25.00 in advance and $30.00 at the door. \n 
URL:https://heirscovenant.com/events/dangerous-talk/
LOCATION:Heirs Covenant Church\, 2470 Princeton Road\, Hamilton\, OH\, 45011\, United States
END:VEVENT
BEGIN:VEVENT
DTSTART;TZID=UTC:20170825T190000
DTEND;TZID=UTC:20170825T230000
DTSTAMP:20260424T023334
CREATED:20170820T172729Z
LAST-MODIFIED:20170820T172729Z
UID:8575-1503687600-1503702000@heirscovenant.com
SUMMARY:Night of Purpose
DESCRIPTION:This event is for H.Y.P.E. teens and tweens.  Invite your friends for this night of vision-casting and fun! There will be food and a chance to win prizes. For more information\, email heirs@heirscovenant.com
URL:https://heirscovenant.com/events/night-of-purpose/
LOCATION:Heirs Covenant Church\, 2470 Princeton Road\, Hamilton\, OH\, 45011\, United States
CATEGORIES:Youth
END:VEVENT
BEGIN:VEVENT
DTSTART;TZID=UTC:20170819T120000
DTEND;TZID=UTC:20170819T180000
DTSTAMP:20260424T023334
CREATED:20170708T045503Z
LAST-MODIFIED:20170708T045605Z
UID:8438-1503144000-1503165600@heirscovenant.com
SUMMARY:The One Accord Gathering
DESCRIPTION:This City-wide event will feature music\, food\, and a water feature for the children.  John W. Stevenson and the worship team of HEIRS will be sharing music from the recently released project\, “The Heavens Are Still Open”.
URL:https://heirscovenant.com/events/the-one-accord-gathering/
LOCATION:River’s Edge Ampitheatre\, 116 Dayton St\, Hamilton\, OH\, 45011\, United States
END:VEVENT
BEGIN:VEVENT
DTSTART;TZID=UTC:20170611T110000
DTEND;TZID=UTC:20170611T123000
DTSTAMP:20260424T023334
CREATED:20170527T214208Z
LAST-MODIFIED:20170527T214208Z
UID:8368-1497178800-1497184200@heirscovenant.com
SUMMARY:Joint Gathering with New Life Vineyard Church
DESCRIPTION:2 Fellowships…1 Expression! Join us as the body of HEIRS Covenant Church gathers with the body of New Life Vineyard Church for a transforming time together.
URL:https://heirscovenant.com/events/joint-gathering-with-new-life-vineyard-church/
LOCATION:Heirs Covenant Church\, 2470 Princeton Road\, Hamilton\, OH\, 45011\, United States
END:VEVENT
BEGIN:VEVENT
DTSTART;TZID=UTC:20170529T070000
DTEND;TZID=UTC:20170529T071000
DTSTAMP:20260424T023334
CREATED:20170524T041220Z
LAST-MODIFIED:20170524T041220Z
UID:8362-1496041200-1496041800@heirscovenant.com
SUMMARY:Word for the Week - Conference Call and Prayer
DESCRIPTION:Call in and listen to the a 10 minute word of encouragement and prayer via live conference call every Monday at 7:00 a.m. \nConference Call number: 712-770-4010 Access Code: 938312
URL:https://heirscovenant.com/events/word-for-the-week-conference-call-and-prayer/
END:VEVENT
BEGIN:VEVENT
DTSTART;TZID=UTC:20170528T123000
DTEND;TZID=UTC:20170528T133000
DTSTAMP:20260424T023334
CREATED:20170524T033932Z
LAST-MODIFIED:20170524T033932Z
UID:8359-1495974600-1495978200@heirscovenant.com
SUMMARY:E.P.I.C. (Experience People In Christ)
DESCRIPTION:E.P.I.C. will meet Sunday\, May 28th in the Atrium following the morning gathering.  All of our season individuals\, age 50 plus are invited.
URL:https://heirscovenant.com/events/e-p-i-c-experience-people-in-christ/
CATEGORIES:Seniors
END:VEVENT
BEGIN:VEVENT
DTSTART;TZID=UTC:20170519T193000
DTEND;TZID=UTC:20170519T213000
DTSTAMP:20260424T023334
CREATED:20170518T011808Z
LAST-MODIFIED:20170518T011808Z
UID:8348-1495222200-1495229400@heirscovenant.com
SUMMARY:The Heavens Are Still Open - Listening Party
DESCRIPTION:You are invited to a listening party for “The Heavens Are Still Open”.  The Heavens Are Still Open is the live worship experience featuring John W. Stevenson and the worship team of HEIRS Covenant Church.  The event will be held Friday
URL:https://heirscovenant.com/events/the-heavens-are-still-open-listening-party/
LOCATION:Coffee Cup Overflowing\, 6544 Winfred Ave\, Hamilton\, OH\, 45011\, United States
END:VEVENT
END:VCALENDAR